View In:
ArcGIS JavaScript
ArcGIS Online Map Viewer
ArcGIS Earth
ArcMap
View Footprint In:
ArcGIS Online Map Viewer
Service Description: 2025FloodData/Depth_55_14In_12Hr
Name: 2025FloodData/Depth_55_14In_12Hr
Description:
Single Fused Map Cache: false
Extent:
XMin: 3047348.99403519
YMin: 1.374051748172317E7
XMax: 3088235.99403519
YMax: 1.379198848172317E7
Spatial Reference: PROJCS["NAD_1983_2011_StatePlane_Texas_South_Central_FIPS_4204_FtUS",GEOGCS["GCS_NAD_1983_2011",DATUM["D_NAD_1983_2011",SPHEROID["GRS_1980",6378137.0,298.257222101]],PRIMEM["Greenwich",0.0],UNIT["Degree",0.0174532925199433]],PROJECTION["Lambert_Conformal_Conic"],PARAMETER["False_Easting",1968500.0],PARAMETER["False_Northing",13123333.333],PARAMETER["Central_Meridian",-99.0],PARAMETER["Standard_Parallel_1",28.3833333333333],PARAMETER["Standard_Parallel_2",30.2833333333333],PARAMETER["Latitude_Of_Origin",27.8333333333333],UNIT["Foot_US",0.3048006096012192]]
Initial Extent:
XMin: 3047348.99403519
YMin: 1.374051748172317E7
XMax: 3088235.99403519
YMax: 1.379198848172317E7
Spatial Reference: PROJCS["NAD_1983_2011_StatePlane_Texas_South_Central_FIPS_4204_FtUS",GEOGCS["GCS_NAD_1983_2011",DATUM["D_NAD_1983_2011",SPHEROID["GRS_1980",6378137.0,298.257222101]],PRIMEM["Greenwich",0.0],UNIT["Degree",0.0174532925199433]],PROJECTION["Lambert_Conformal_Conic"],PARAMETER["False_Easting",1968500.0],PARAMETER["False_Northing",13123333.333],PARAMETER["Central_Meridian",-99.0],PARAMETER["Standard_Parallel_1",28.3833333333333],PARAMETER["Standard_Parallel_2",30.2833333333333],PARAMETER["Latitude_Of_Origin",27.8333333333333],UNIT["Foot_US",0.3048006096012192]]
Full Extent:
XMin: 3047348.99403519
YMin: 1.374051748172317E7
XMax: 3088235.99403519
YMax: 1.379198848172317E7
Spatial Reference: PROJCS["NAD_1983_2011_StatePlane_Texas_South_Central_FIPS_4204_FtUS",GEOGCS["GCS_NAD_1983_2011",DATUM["D_NAD_1983_2011",SPHEROID["GRS_1980",6378137.0,298.257222101]],PRIMEM["Greenwich",0.0],UNIT["Degree",0.0174532925199433]],PROJECTION["Lambert_Conformal_Conic"],PARAMETER["False_Easting",1968500.0],PARAMETER["False_Northing",13123333.333],PARAMETER["Central_Meridian",-99.0],PARAMETER["Standard_Parallel_1",28.3833333333333],PARAMETER["Standard_Parallel_2",30.2833333333333],PARAMETER["Latitude_Of_Origin",27.8333333333333],UNIT["Foot_US",0.3048006096012192]]
Pixel Size X: 9.0
Pixel Size Y: 9.0
Band Count: 1
Pixel Type: F32
RasterFunction Infos: {"rasterFunctionInfos": [{
"name": "None",
"description": "",
"help": ""
}]}
Mensuration Capabilities: Basic
Has Histograms: true
Has Colormap: false
Has Multi Dimensions : false
Rendering Rule:
Min Scale: 0
Max Scale: 0
Copyright Text:
Service Data Type: esriImageServiceDataTypeGeneric
Min Values: 0.010002136230469
Max Values: 41.693176269531
Mean Values: 4.1290933879907
Standard Deviation Values: 5.4614858272745
Object ID Field:
Fields:
None
Default Mosaic Method: Center
Allowed Mosaic Methods:
SortField:
SortValue: null
Mosaic Operator: First
Default Compression Quality: 75
Default Resampling Method: Bilinear
Max Record Count: null
Max Image Height: 4100
Max Image Width: 15000
Max Download Image Count: null
Max Mosaic Image Count: null
Allow Raster Function: true
Allow Copy: null
Allow Analysis: null
Allow Compute TiePoints: false
Supports Statistics: false
Supports Advanced Queries: false
Use StandardizedQueries: true
Raster Type Infos:
Name: Raster Dataset
Description: Supports all ArcGIS Raster Datasets
Help:
Has Raster Attribute Table: false
Edit Fields Info: null
Ownership Based AccessControl For Rasters: null
Child Resources:
Info
Histograms
Key Properties
Legend
Raster Function Infos
Supported Operations:
Export Image
Identify
Measure
Compute Histograms
Compute Statistics Histograms
Get Samples
Compute Class Statistics
Query Boundary
Compute Pixel Location
Validate
Project