View In:
ArcGIS JavaScript
ArcGIS Online Map Viewer
ArcGIS Earth
Service Description: ExistingGround
Name: ExistingGround
Description:
Single Fused Map Cache: false
Extent:
XMin: 2991803.999909637
YMin: 1.3716721500144562E7
XMax: 3110774.999909637
YMax: 1.3806073500144562E7
Spatial Reference: PROJCS["NAD_1983_Lambert_Conformal_Conic",GEOGCS["GCS_North_American_1983",DATUM["D_North_American_1983",SPHEROID["GRS_1980",6378137.0,298.257222101]],PRIMEM["Greenwich",0.0],UNIT["Degree",0.0174532925199433]],PROJECTION["Lambert_Conformal_Conic"],PARAMETER["False_Easting",1968500.0],PARAMETER["False_Northing",13123333.3333333],PARAMETER["Central_Meridian",-99.0],PARAMETER["Standard_Parallel_1",28.3833333333333],PARAMETER["Standard_Parallel_2",30.2833333333333],PARAMETER["Latitude_Of_Origin",27.8333333333333],UNIT["Foot_US",0.3048006096012192]]
Initial Extent:
XMin: 2991803.999909637
YMin: 1.3716721500144562E7
XMax: 3110774.999909637
YMax: 1.3806073500144562E7
Spatial Reference: PROJCS["NAD_1983_Lambert_Conformal_Conic",GEOGCS["GCS_North_American_1983",DATUM["D_North_American_1983",SPHEROID["GRS_1980",6378137.0,298.257222101]],PRIMEM["Greenwich",0.0],UNIT["Degree",0.0174532925199433]],PROJECTION["Lambert_Conformal_Conic"],PARAMETER["False_Easting",1968500.0],PARAMETER["False_Northing",13123333.3333333],PARAMETER["Central_Meridian",-99.0],PARAMETER["Standard_Parallel_1",28.3833333333333],PARAMETER["Standard_Parallel_2",30.2833333333333],PARAMETER["Latitude_Of_Origin",27.8333333333333],UNIT["Foot_US",0.3048006096012192]]
Full Extent:
XMin: 2991803.999909637
YMin: 1.3716721500144562E7
XMax: 3110774.999909637
YMax: 1.3806073500144562E7
Spatial Reference: PROJCS["NAD_1983_Lambert_Conformal_Conic",GEOGCS["GCS_North_American_1983",DATUM["D_North_American_1983",SPHEROID["GRS_1980",6378137.0,298.257222101]],PRIMEM["Greenwich",0.0],UNIT["Degree",0.0174532925199433]],PROJECTION["Lambert_Conformal_Conic"],PARAMETER["False_Easting",1968500.0],PARAMETER["False_Northing",13123333.3333333],PARAMETER["Central_Meridian",-99.0],PARAMETER["Standard_Parallel_1",28.3833333333333],PARAMETER["Standard_Parallel_2",30.2833333333333],PARAMETER["Latitude_Of_Origin",27.8333333333333],UNIT["Foot_US",0.3048006096012192]]
Pixel Size X: 9.0
Pixel Size Y: 9.0
Band Count: 1
Pixel Type: F32
RasterFunction Infos: {"rasterFunctionInfos": [{
"name": "None",
"description": "",
"help": ""
}]}
Mensuration Capabilities: Basic
Inspection Capabilities:
Has Histograms: true
Has Colormap: false
Has Multi Dimensions : false
Rendering Rule:
Min Scale: 0
Max Scale: 0
Copyright Text:
Service Data Type: esriImageServiceDataTypeGeneric
Min Values: 8.1199998855591
Max Values: 132.28999328613
Mean Values: 67.27877919306
Standard Deviation Values: 10.303653048522
Object ID Field:
Fields:
None
Default Mosaic Method: Center
Allowed Mosaic Methods:
SortField:
SortValue: null
Mosaic Operator: First
Default Compression Quality: 75
Default Resampling Method: Bilinear
Max Record Count: null
Max Image Height: 4100
Max Image Width: 15000
Max Download Image Count: null
Max Mosaic Image Count: null
Allow Raster Function: true
Allow Copy: true
Allow Analysis: true
Allow Compute TiePoints: false
Supports Statistics: false
Supports Advanced Queries: false
Use StandardizedQueries: true
Raster Type Infos:
Name: Raster Dataset
Description: Supports all ArcGIS Raster Datasets
Help:
Has Raster Attribute Table: false
Edit Fields Info: null
Ownership Based AccessControl For Rasters: null
Child Resources:
Info
Histograms
Statistics
Key Properties
Legend
Raster Function Infos
Supported Operations:
Export Image
Identify
Measure
Compute Histograms
Compute Statistics Histograms
Get Samples
Compute Class Statistics
Query Boundary
Compute Pixel Location
Compute Angles
Validate
Project