{
 "currentVersion": 10.81,
 "serviceDescription": "2025FloodData/WSEL_50_14In_12Hr",
 "name": "2025FloodData/WSEL_50_14In_12Hr",
 "description": "",
 "extent": {
  "xmin": 3047348.99403519,
  "ymin": 1.374051748172317E7,
  "xmax": 3088235.99403519,
  "ymax": 1.379198848172317E7,
  "spatialReference": {
   "wkt": "PROJCS[\"NAD_1983_2011_StatePlane_Texas_South_Central_FIPS_4204_FtUS\",GEOGCS[\"GCS_NAD_1983_2011\",DATUM[\"D_NAD_1983_2011\",SPHEROID[\"GRS_1980\",6378137.0,298.257222101]],PRIMEM[\"Greenwich\",0.0],UNIT[\"Degree\",0.0174532925199433]],PROJECTION[\"Lambert_Conformal_Conic\"],PARAMETER[\"False_Easting\",1968500.0],PARAMETER[\"False_Northing\",13123333.333],PARAMETER[\"Central_Meridian\",-99.0],PARAMETER[\"Standard_Parallel_1\",28.3833333333333],PARAMETER[\"Standard_Parallel_2\",30.2833333333333],PARAMETER[\"Latitude_Of_Origin\",27.8333333333333],UNIT[\"Foot_US\",0.3048006096012192]]"
  }
 },
 "initialExtent": {
  "xmin": 3047348.99403519,
  "ymin": 1.374051748172317E7,
  "xmax": 3088235.99403519,
  "ymax": 1.379198848172317E7,
  "spatialReference": {
   "wkt": "PROJCS[\"NAD_1983_2011_StatePlane_Texas_South_Central_FIPS_4204_FtUS\",GEOGCS[\"GCS_NAD_1983_2011\",DATUM[\"D_NAD_1983_2011\",SPHEROID[\"GRS_1980\",6378137.0,298.257222101]],PRIMEM[\"Greenwich\",0.0],UNIT[\"Degree\",0.0174532925199433]],PROJECTION[\"Lambert_Conformal_Conic\"],PARAMETER[\"False_Easting\",1968500.0],PARAMETER[\"False_Northing\",13123333.333],PARAMETER[\"Central_Meridian\",-99.0],PARAMETER[\"Standard_Parallel_1\",28.3833333333333],PARAMETER[\"Standard_Parallel_2\",30.2833333333333],PARAMETER[\"Latitude_Of_Origin\",27.8333333333333],UNIT[\"Foot_US\",0.3048006096012192]]"
  }
 },
 "fullExtent": {
  "xmin": 3047348.99403519,
  "ymin": 1.374051748172317E7,
  "xmax": 3088235.99403519,
  "ymax": 1.379198848172317E7,
  "spatialReference": {
   "wkt": "PROJCS[\"NAD_1983_2011_StatePlane_Texas_South_Central_FIPS_4204_FtUS\",GEOGCS[\"GCS_NAD_1983_2011\",DATUM[\"D_NAD_1983_2011\",SPHEROID[\"GRS_1980\",6378137.0,298.257222101]],PRIMEM[\"Greenwich\",0.0],UNIT[\"Degree\",0.0174532925199433]],PROJECTION[\"Lambert_Conformal_Conic\"],PARAMETER[\"False_Easting\",1968500.0],PARAMETER[\"False_Northing\",13123333.333],PARAMETER[\"Central_Meridian\",-99.0],PARAMETER[\"Standard_Parallel_1\",28.3833333333333],PARAMETER[\"Standard_Parallel_2\",30.2833333333333],PARAMETER[\"Latitude_Of_Origin\",27.8333333333333],UNIT[\"Foot_US\",0.3048006096012192]]"
  }
 },
 "pixelSizeX": 9,
 "pixelSizeY": 9,
 "bandCount": 1,
 "pixelType": "F32",
 "minPixelSize": 0,
 "maxPixelSize": 0,
 "copyrightText": "",
 "serviceDataType": "esriImageServiceDataTypeGeneric",
 "minValues": [
  55.368312835693
 ],
 "maxValues": [
  76.782196044922
 ],
 "meanValues": [
  65.816610214053
 ],
 "stdvValues": [
  4.673091468089
 ],
 "objectIdField": "",
 "fields": [],
 "capabilities": "Image,Metadata,Mensuration",
 "defaultMosaicMethod": "Center",
 "allowedMosaicMethods": "",
 "sortField": "",
 "sortValue": null,
 "sortAscending": true,
 "mosaicOperator": "First",
 "defaultCompressionQuality": 75,
 "defaultResamplingMethod": "Bilinear",
 "maxImageHeight": 4100,
 "maxImageWidth": 15000,
 "allowRasterFunction": true,
 "rasterFunctionInfos": [
  {
   "name": "None",
   "description": "",
   "help": ""
  }
 ],
 "rasterTypeInfos": [
  {
   "name": "Raster Dataset",
   "description": "Supports all ArcGIS Raster Datasets",
   "help": ""
  }
 ],
 "mensurationCapabilities": "Basic",
 "hasHistograms": true,
 "hasColormap": false,
 "hasRasterAttributeTable": false,
 "minScale": 0,
 "maxScale": 0,
 "exportTilesAllowed": false,
 "hasMultidimensions": false,
 "supportsStatistics": false,
 "supportsAdvancedQueries": false,
 "editFieldsInfo": null,
 "ownershipBasedAccessControlForRasters": null,
 "allowComputeTiePoints": false,
 "useStandardizedQueries": true,
 "advancedQueryCapabilities": {
  "useStandardizedQueries": true,
  "supportsStatistics": false,
  "supportsOrderBy": false,
  "supportsDistinct": false,
  "supportsPagination": false
 },
 "spatialReference": {
  "wkt": "PROJCS[\"NAD_1983_2011_StatePlane_Texas_South_Central_FIPS_4204_FtUS\",GEOGCS[\"GCS_NAD_1983_2011\",DATUM[\"D_NAD_1983_2011\",SPHEROID[\"GRS_1980\",6378137.0,298.257222101]],PRIMEM[\"Greenwich\",0.0],UNIT[\"Degree\",0.0174532925199433]],PROJECTION[\"Lambert_Conformal_Conic\"],PARAMETER[\"False_Easting\",1968500.0],PARAMETER[\"False_Northing\",13123333.333],PARAMETER[\"Central_Meridian\",-99.0],PARAMETER[\"Standard_Parallel_1\",28.3833333333333],PARAMETER[\"Standard_Parallel_2\",30.2833333333333],PARAMETER[\"Latitude_Of_Origin\",27.8333333333333],UNIT[\"Foot_US\",0.3048006096012192]]"
 }
}
